BEGIN:VCALENDAR
VERSION:2.0
PRODID:-//Lipoedema UK - ECPv6.15.17.1//NONSGML v1.0//EN
CALSCALE:GREGORIAN
METHOD:PUBLISH
X-WR-CALNAME:Lipoedema UK
X-ORIGINAL-URL:https://lipoedema.co.uk
X-WR-CALDESC:Events for Lipoedema UK
REFRESH-INTERVAL;VALUE=DURATION:PT1H
X-Robots-Tag:noindex
X-PUBLISHED-TTL:PT1H
BEGIN:VTIMEZONE
TZID:UTC
BEGIN:STANDARD
TZOFFSETFROM:+0000
TZOFFSETTO:+0000
TZNAME:UTC
DTSTART:20250101T000000
END:STANDARD
END:VTIMEZONE
BEGIN:VEVENT
DTSTART;TZID=UTC:20260312T183000
DTEND;TZID=UTC:20260312T191500
DTSTAMP:20260426T043242
CREATED:20251209T132433Z
LAST-MODIFIED:20260210T122914Z
UID:494158-1773340200-1773342900@lipoedema.co.uk
SUMMARY:Why GLP-1 Medications Work for Some Women with Lipedema  and Not Others: Genetics\, Metabolism & Anti-Inflammatory Nutrition”
DESCRIPTION:Glucagon-like peptide-1 receptor agonists (GLP-1 RAs) and newer dual agonists such as tirzepatide are transforming obesity care\, yet many women with lipedema experience highly variable results—from dramatic weight loss to almost no change at all. This webinar will explore why. \n\n\n\nDrawing on the recent study identifying neurobeachin (NBEA) as a novel gene associated with GLP-1–related weight loss\, Linda-Anne Khan will explain in patient- friendly language how genetics\, insulin sensitivity\, and inflammation can shape individual responses to GLP-1 and tirzepatide. She’ll share clinical experience of her patients with lipedema who are using tirzepatide\, highlight key messages from her Lipedema World Congress poster on Metabolic dysfunction\, insulin resistance\, and inflammation in patients with lipedema and review recent anti-inflammatory nutrition research presented in Rome. \n\n\n\nParticipants will leave with a realistic\, compassionate understanding of why responses differ\, and practical strategies to combine medication\, nutrition\, and lymphatic self-care to support better outcomes and quality of life. \n\n\n\nLinda-Anne Kahn\, CLT-LANA\, NCTMB\, CMT\, is an internationally trained lymphedema therapist\, clinical aromatherapist\, integrative health coach\, and board- certified massage therapist with over thirty-five years of experience. She holds prestigious international certifications from the Dr. Vodder School in Austria\, the Foeldi School in Germany\, and the University of Adelaide under Drs. John and Judith Casley-Smith in Australia. She is also nationally certified by the Lymphology Association of North America (LANA) and has completed advanced studies in Myofascial Release with John Barnes. Linda-Anne is a sought-after speaker at national and international conferences on lymphatic health\, aromatherapy\, and fat disorders. \n\n\n\nAs the director of Lymphatic Therapy Services of San Diego and Beauty Kliniek Aromatherapy Day Spa\, Linda-Anne brings exceptional clinical expertise to her integrative practice. She specializes in the treatment of lymphedema\, lipedema\, and Dercum’s disease\, offering comprehensive care for individuals with complex lymphatic and connective tissue disorders. \n\n\n\nLinda-Anne is the co-author of the United States Standard of Care for Lipedema and the Lymphedema and Lipedema Nutrition Guide\, and she is a founding member of the Lipedema World Alliance. Her commitment to advancing research\, education\, and patient support continues to shape the evolving field of lymphatic and adipose tissue disorders. \n\n\n\nA dynamic educator\, she frequently presents at international and national conferences on topics ranging from lymphatic dysfunction and integrative therapies to aromatherapy and metabolic health in fat disorders. She is deeply passionate about empowering clients with personalized\, compassionate care and guiding them through their healing journey. \n\n\n\nWith more than three decades of clinical experience\, Linda-Anne excels at identifying root causes of chronic health challenges. Her integrative approach weaves together manual lymph drainage\, myofascial techniques\, nutrition\, customized essential oil formulations\, and lifestyle counseling\, supporting whole-person healing and optimal lymphatic function.
URL:https://lipoedema.co.uk/events/why-glp-1-medications-work-for-some-women-with-lipedema-and-not-othersgenetics-metabolism-anti-inflammatory-nutrition/
CATEGORIES:Webinars
ATTACH;FMTTYPE=image/png:https://lipoedema.co.uk/wp-content/uploads/2025/12/glp1-webinar.png
LOCATION:https://lipoedema.co.uk/events/why-glp-1-medications-work-for-some-women-with-lipedema-and-not-othersgenetics-metabolism-anti-inflammatory-nutrition/
END:VEVENT
BEGIN:VEVENT
DTSTART;TZID=UTC:20260317T000000
DTEND;TZID=UTC:20260318T235959
DTSTAMP:20260426T043242
CREATED:20260127T082731Z
LAST-MODIFIED:20260223T101825Z
UID:497842-1773705600-1773878399@lipoedema.co.uk
SUMMARY:Healthcare Professionals Event  - Wound Care Today
DESCRIPTION:Our team will be exhibiting at the Wound Care Today Conference in Telford on 17th–18th March to raise awareness of lipoedema in primary care. Registration is free for healthcare professionals\, and spaces are still available. Click the link below to view the programme and sign up! \n\n\n\nhttps://www.woundcare-today.com/index.php
URL:https://lipoedema.co.uk/events/healthcare-professionals-event-wound-care-today-17th-18th-march-2026/
LOCATION:BMA House\, Tavistock Square\, London\, WC1H 9JP
CATEGORIES:Health Care Professionals,Lipoedema UK Team
ATTACH;FMTTYPE=image/png:https://lipoedema.co.uk/wp-content/uploads/2026/01/WCT-for-website.png
END:VEVENT
BEGIN:VEVENT
DTSTART;TZID=UTC:20260320T190000
DTEND;TZID=UTC:20260320T235959
DTSTAMP:20260426T043242
CREATED:20250904T142918Z
LAST-MODIFIED:20251222T092546Z
UID:491559-1774033200-1774051199@lipoedema.co.uk
SUMMARY:Healthcare Professionals Event  - The British Journal of Nursing Awards 2026
DESCRIPTION:The BJN Awards event is for Healthcare Professionals Only\, it will be held at BMA House in London on Friday\, 20th March 2026\, celebrating excellence in research and practice while recognising outstanding achievements across the nursing community. \n\n\n\nLipoedema UK will be supporting the British Journal of Nursing Award for Lymphoedema/Lipoedema Nurse of the Year 2026\, in association with our colleagues at the The British Lymphology Society. \n\n\n\nThis award honours the dedication\, compassion\, and expertise of nurses who transform the lives of people living with lipoedema and lymphoedema  \n\n\n\nNominations are now OPEN!Know an outstanding nurse who deserves recognition? Nominate them today via the button below.
URL:https://lipoedema.co.uk/events/the-british-journal-of-nursing-awards-2026/
LOCATION:BMA House\, Tavistock Square\, London\, WC1H 9JP
CATEGORIES:Health Care Professionals,Lipoedema UK Team
ATTACH;FMTTYPE=image/png:https://lipoedema.co.uk/wp-content/uploads/2025/09/bjn-awards.png
END:VEVENT
BEGIN:VEVENT
DTSTART;TZID=UTC:20260326T183000
DTEND;TZID=UTC:20260326T191500
DTSTAMP:20260426T043242
CREATED:20251022T114211Z
LAST-MODIFIED:20251022T114214Z
UID:491698-1774549800-1774552500@lipoedema.co.uk
SUMMARY:Members Open Clinic
DESCRIPTION:Monthly ‘Nurse and Clinical Specialist’ sessions for you to ask questions in a safe environment. Please note all our Open Clinics are live on the night and to maintain members privacy are not recorded.
URL:https://lipoedema.co.uk/events/members-open-clinic-15/
CATEGORIES:Webinars
ATTACH;FMTTYPE=image/jpeg:https://lipoedema.co.uk/wp-content/uploads/2025/10/LUK-Events-web-box-Mar26-2026.jpg
LOCATION:https://lipoedema.co.uk/events/members-open-clinic-15/
END:VEVENT
BEGIN:VEVENT
DTSTART;TZID=UTC:20260423T183000
DTEND;TZID=UTC:20260423T191500
DTSTAMP:20260426T043242
CREATED:20260327T141143Z
LAST-MODIFIED:20260327T141151Z
UID:498118-1776969000-1776971700@lipoedema.co.uk
SUMMARY:Members Open Clinic
DESCRIPTION:Monthly ‘Nurse and Clinical Specialist’ sessions for you to ask questions in a safe environment. Please note all our Open Clinics are live on the night and to maintain members privacy are not recorded.
URL:https://lipoedema.co.uk/events/members-open-clinic-16/
CATEGORIES:Webinars
ATTACH;FMTTYPE=image/jpeg:https://lipoedema.co.uk/wp-content/uploads/2026/03/LUK-Event-Open-Clinic-Apr-23-2026-set-1.jpg
LOCATION:https://lipoedema.co.uk/events/members-open-clinic-16/
END:VEVENT
BEGIN:VEVENT
DTSTART;TZID=UTC:20260528T183000
DTEND;TZID=UTC:20260528T191500
DTSTAMP:20260426T043242
CREATED:20260327T141257Z
LAST-MODIFIED:20260327T141303Z
UID:498125-1779993000-1779995700@lipoedema.co.uk
SUMMARY:Members Open Clinic
DESCRIPTION:Monthly ‘Nurse and Clinical Specialist’ sessions for you to ask questions in a safe environment. Please note all our Open Clinics are live on the night and to maintain members privacy are not recorded.\n\nJoin via Zoom: https://us06web.zoom.us/j/82705967177?pwd=fOXajSW7zWzExzw3WMfL7RyT1Q4hEd.1 | Meeting ID: 82705967177 | Passcode: 394991
URL:https://lipoedema.co.uk/events/members-open-clinic-17/
CATEGORIES:Webinars
ATTACH;FMTTYPE=image/jpeg:https://lipoedema.co.uk/wp-content/uploads/2026/03/LUK-Event-Open-Clinic-May-28-2026-set-1.jpg
LOCATION:https://lipoedema.co.uk/events/members-open-clinic-17/
END:VEVENT
BEGIN:VEVENT
DTSTART;TZID=UTC:20260604T143000
DTEND;TZID=UTC:20260604T183000
DTSTAMP:20260426T043242
CREATED:20260120T134735Z
LAST-MODIFIED:20260420T170014Z
UID:497831-1780583400-1780597800@lipoedema.co.uk
SUMMARY:Lipoedema in the Spotlight – What Clinicians and Patients Need to Know
DESCRIPTION:We’re excited to announce our collaboration with the Royal Society of Medicine this June for Lipoedema Awareness Month\, delivering a FREE\, in-depth webinar exploring the perspective of worldwide experts on diagnosis\, management\, research\, and the future of lipoedema care. \n\n\n\nWhat to expect?\n\n\n\nFollowing last year’s successful event Medicine and Me: Unmasking Lipoedema\, we’re delighted to once again partner with the Royal Society of Medicine (RSM) to raise awareness their prestigious UK and international clinical community. \n\n\n\nThis all new 4-hour online session\, Lipoedema in the Spotlight: Expert Opinion on What Clinicians and Patients Need to Know\, brings together respected international experts and people with lived experience to bridge the gap between research\, clinical practice\, and patient reality. \n\n\n\nWe will explore the newly published Lipoedema World Alliance Delphi Consensus-Based Position Paper\, which establishes a globally relevant\, evidence-based framework for understanding and managing lipoedema. \n\n\n\nWe will also provide an update from the UK National Institute for Health and Care Excellence (NICE) on the review of liposuction guidance\, highlighting the current position and next steps. \n\n\n\nKey topics\n\n\n\nOur key topics are based on the 8 domains of the Lipoedema World Alliance (LWA) consensus document:\n\n\n\n✔ Definition and clinical presentation: a clear\, standardised definition of lipoedema and its distinguishing features \n\n\n\n✔Pathophysiology mechanisms: current understanding of biological processes \n\n\n\n✔Epidemiology: current understanding of biological processes \n\n\n\n✔Co-morbidities: associated conditions (including obesity) and their impact on management and outcomes \n\n\n\n✔Quality of life: exploring physical\, psychological\, and social impacts on daily living \n\n\n\n✔Diagnosis: clinical approaches and ongoing challenges \n\n\n\n✔Treatment strategies and management: conservative\, medical\, and surgical options within care pathways \n\n\n\n✔Future directions: emerging research\, innovation\, and gaps in care \n\n\n\nWho should attend?\n\n\n\nThis international webinar is FREE and open to all. \n\n\n\nIt is designed for both people living with lipoedema and generalist and specialist healthcare professionals\, including GPs\, consultants\, surgeons\, nurses\, allied health professionals\, and those working in related clinical and research fields. \n\n\n\nPlease feel free to share this global event with friends\, family\, colleagues\, and healthcare professionals who may benefit from attending. \n\n\n\nExpert guest speakers to be announced soon… \n\n\n\nRegister today\n\n\n\nTo register\, you must sign up for a FREE Royal Society of Medicine (RSM) account via the link below. \n\n\n\nOnce registered\, you will be able to secure your free place on RSM’s webinar booking page. \n\n\n\nIf you have any issues registering\, please contact us at info@lipoedema.co.uk\n\nJoin via Zoom: https://us06web.zoom.us/j/82705967177?pwd=fOXajSW7zWzExzw3WMfL7RyT1Q4hEd.1 | Meeting ID: 82705967177 | Passcode: 394991
URL:https://lipoedema.co.uk/events/rsm2026/
CATEGORIES:Health Care Professionals,Lipoedema UK Team,Patients,Support Group,Webinars
ATTACH;FMTTYPE=image/png:https://lipoedema.co.uk/wp-content/uploads/2026/01/for-website-event.png
END:VEVENT
BEGIN:VEVENT
DTSTART;TZID=UTC:20260625T183000
DTEND;TZID=UTC:20260625T191500
DTSTAMP:20260426T043242
CREATED:20260327T141411Z
LAST-MODIFIED:20260327T141412Z
UID:498128-1782412200-1782414900@lipoedema.co.uk
SUMMARY:Members Open Clinic
DESCRIPTION:Monthly ‘Nurse and Clinical Specialist’ sessions for you to ask questions in a safe environment. Please note all our Open Clinics are live on the night and to maintain members privacy are not recorded.\n\nJoin via Zoom: https://us06web.zoom.us/j/82705967177?pwd=fOXajSW7zWzExzw3WMfL7RyT1Q4hEd.1 | Meeting ID: 82705967177 | Passcode: 394991
URL:https://lipoedema.co.uk/events/members-open-clinic-18/
CATEGORIES:Webinars
ATTACH;FMTTYPE=image/jpeg:https://lipoedema.co.uk/wp-content/uploads/2026/03/LUK-Event-Open-Clinic-Jun-25-2026-set-1.jpg
LOCATION:https://lipoedema.co.uk/events/members-open-clinic-18/
END:VEVENT
BEGIN:VEVENT
DTSTART;TZID=UTC:20260723T183000
DTEND;TZID=UTC:20260723T191500
DTSTAMP:20260426T043242
CREATED:20260327T141613Z
LAST-MODIFIED:20260327T141615Z
UID:498130-1784831400-1784834100@lipoedema.co.uk
SUMMARY:Members Open Clinic
DESCRIPTION:Monthly ‘Nurse and Clinical Specialist’ sessions for you to ask questions in a safe environment. Please note all our Open Clinics are live on the night and to maintain members privacy are not recorded.\n\nJoin via Zoom: https://us06web.zoom.us/j/82705967177?pwd=fOXajSW7zWzExzw3WMfL7RyT1Q4hEd.1 | Meeting ID: 82705967177 | Passcode: 394991
URL:https://lipoedema.co.uk/events/members-open-clinic-19/
CATEGORIES:Webinars
ATTACH;FMTTYPE=image/jpeg:https://lipoedema.co.uk/wp-content/uploads/2026/03/LUK-Event-Open-Clinic-Jul-23-2026-set-1.jpg
LOCATION:https://lipoedema.co.uk/events/members-open-clinic-19/
END:VEVENT
END:VCALENDAR