BEGIN:VCALENDAR
VERSION:2.0
PRODID:-//Lipoedema UK - ECPv6.15.17.1//NONSGML v1.0//EN
CALSCALE:GREGORIAN
METHOD:PUBLISH
X-ORIGINAL-URL:https://lipoedema.co.uk
X-WR-CALDESC:Events for Lipoedema UK
REFRESH-INTERVAL;VALUE=DURATION:PT1H
X-Robots-Tag:noindex
X-PUBLISHED-TTL:PT1H
BEGIN:VTIMEZONE
TZID:UTC
BEGIN:STANDARD
TZOFFSETFROM:+0000
TZOFFSETTO:+0000
TZNAME:UTC
DTSTART:20250101T000000
END:STANDARD
END:VTIMEZONE
BEGIN:VEVENT
DTSTART;TZID=UTC:20260604T143000
DTEND;TZID=UTC:20260604T183000
DTSTAMP:20260423T214726
CREATED:20260120T134735Z
LAST-MODIFIED:20260420T170014Z
UID:497831-1780583400-1780597800@lipoedema.co.uk
SUMMARY:Lipoedema in the Spotlight – What Clinicians and Patients Need to Know
DESCRIPTION:We’re excited to announce our collaboration with the Royal Society of Medicine this June for Lipoedema Awareness Month\, delivering a FREE\, in-depth webinar exploring the perspective of worldwide experts on diagnosis\, management\, research\, and the future of lipoedema care. \n\n\n\nWhat to expect?\n\n\n\nFollowing last year’s successful event Medicine and Me: Unmasking Lipoedema\, we’re delighted to once again partner with the Royal Society of Medicine (RSM) to raise awareness their prestigious UK and international clinical community. \n\n\n\nThis all new 4-hour online session\, Lipoedema in the Spotlight: Expert Opinion on What Clinicians and Patients Need to Know\, brings together respected international experts and people with lived experience to bridge the gap between research\, clinical practice\, and patient reality. \n\n\n\nWe will explore the newly published Lipoedema World Alliance Delphi Consensus-Based Position Paper\, which establishes a globally relevant\, evidence-based framework for understanding and managing lipoedema. \n\n\n\nWe will also provide an update from the UK National Institute for Health and Care Excellence (NICE) on the review of liposuction guidance\, highlighting the current position and next steps. \n\n\n\nKey topics\n\n\n\nOur key topics are based on the 8 domains of the Lipoedema World Alliance (LWA) consensus document:\n\n\n\n✔ Definition and clinical presentation: a clear\, standardised definition of lipoedema and its distinguishing features \n\n\n\n✔Pathophysiology mechanisms: current understanding of biological processes \n\n\n\n✔Epidemiology: current understanding of biological processes \n\n\n\n✔Co-morbidities: associated conditions (including obesity) and their impact on management and outcomes \n\n\n\n✔Quality of life: exploring physical\, psychological\, and social impacts on daily living \n\n\n\n✔Diagnosis: clinical approaches and ongoing challenges \n\n\n\n✔Treatment strategies and management: conservative\, medical\, and surgical options within care pathways \n\n\n\n✔Future directions: emerging research\, innovation\, and gaps in care \n\n\n\nWho should attend?\n\n\n\nThis international webinar is FREE and open to all. \n\n\n\nIt is designed for both people living with lipoedema and generalist and specialist healthcare professionals\, including GPs\, consultants\, surgeons\, nurses\, allied health professionals\, and those working in related clinical and research fields. \n\n\n\nPlease feel free to share this global event with friends\, family\, colleagues\, and healthcare professionals who may benefit from attending. \n\n\n\nExpert guest speakers to be announced soon… \n\n\n\nRegister today\n\n\n\nTo register\, you must sign up for a FREE Royal Society of Medicine (RSM) account via the link below. \n\n\n\nOnce registered\, you will be able to secure your free place on RSM’s webinar booking page. \n\n\n\nIf you have any issues registering\, please contact us at info@lipoedema.co.uk\n\nJoin via Zoom: https://us06web.zoom.us/j/82705967177?pwd=fOXajSW7zWzExzw3WMfL7RyT1Q4hEd.1 | Meeting ID: 82705967177 | Passcode: 394991
URL:https://lipoedema.co.uk/events/rsm2026/
CATEGORIES:Health Care Professionals,Lipoedema UK Team,Patients,Support Group,Webinars
ATTACH;FMTTYPE=image/png:https://lipoedema.co.uk/wp-content/uploads/2026/01/for-website-event.png
END:VEVENT
BEGIN:VEVENT
DTSTART;TZID=UTC:20260625T183000
DTEND;TZID=UTC:20260625T191500
DTSTAMP:20260423T214726
CREATED:20260327T141411Z
LAST-MODIFIED:20260327T141412Z
UID:498128-1782412200-1782414900@lipoedema.co.uk
SUMMARY:Members Open Clinic
DESCRIPTION:Monthly ‘Nurse and Clinical Specialist’ sessions for you to ask questions in a safe environment. Please note all our Open Clinics are live on the night and to maintain members privacy are not recorded.\n\nJoin via Zoom: https://us06web.zoom.us/j/82705967177?pwd=fOXajSW7zWzExzw3WMfL7RyT1Q4hEd.1 | Meeting ID: 82705967177 | Passcode: 394991
URL:https://lipoedema.co.uk/events/members-open-clinic-18/
CATEGORIES:Webinars
ATTACH;FMTTYPE=image/jpeg:https://lipoedema.co.uk/wp-content/uploads/2026/03/LUK-Event-Open-Clinic-Jun-25-2026-set-1.jpg
LOCATION:https://lipoedema.co.uk/events/members-open-clinic-18/
END:VEVENT
BEGIN:VEVENT
DTSTART;TZID=UTC:20260723T183000
DTEND;TZID=UTC:20260723T191500
DTSTAMP:20260423T214726
CREATED:20260327T141613Z
LAST-MODIFIED:20260327T141615Z
UID:498130-1784831400-1784834100@lipoedema.co.uk
SUMMARY:Members Open Clinic
DESCRIPTION:Monthly ‘Nurse and Clinical Specialist’ sessions for you to ask questions in a safe environment. Please note all our Open Clinics are live on the night and to maintain members privacy are not recorded.\n\nJoin via Zoom: https://us06web.zoom.us/j/82705967177?pwd=fOXajSW7zWzExzw3WMfL7RyT1Q4hEd.1 | Meeting ID: 82705967177 | Passcode: 394991
URL:https://lipoedema.co.uk/events/members-open-clinic-19/
CATEGORIES:Webinars
ATTACH;FMTTYPE=image/jpeg:https://lipoedema.co.uk/wp-content/uploads/2026/03/LUK-Event-Open-Clinic-Jul-23-2026-set-1.jpg
LOCATION:https://lipoedema.co.uk/events/members-open-clinic-19/
END:VEVENT
END:VCALENDAR